BEGIN:VCALENDAR
VERSION:2.0
PRODID:-//Plone.org//NONSGML plone.app.event//EN
X-WR-TIMEZONE:Europe/Rome
BEGIN:VEVENT
SUMMARY:AI for biomedical engineers: A Compliance Guide
DTSTART;TZID=Europe/Rome;VALUE=DATE-TIME:20241217T160000
DTEND;TZID=Europe/Rome;VALUE=DATE-TIME:20241217T180000
DTSTAMP;VALUE=DATE-TIME:20260421T051426Z
UID:17056d54705e47abaf63a33702baf883@dei.unibo.it
CREATED;VALUE=DATE-TIME:20241210T172012Z
DESCRIPTION:The seminar will be given by Roberto Sammarchi
LAST-MODIFIED;VALUE=DATE-TIME:20241210T172041Z
URL:https://dei.unibo.it/en/events/ai-for-biomedical-engineers-a-complianc
 e-guide-1
END:VEVENT
BEGIN:VTIMEZONE
TZID:Europe/Rome
X-LIC-LOCATION:Europe/Rome
BEGIN:STANDARD
DTSTART;VALUE=DATE-TIME:20241027T020000
TZNAME:CET
TZOFFSETFROM:+0200
TZOFFSETTO:+0100
END:STANDARD
END:VTIMEZONE
END:VCALENDAR
