BEGIN:VCALENDAR
VERSION:2.0
PRODID:-//Plone.org//NONSGML plone.app.event//EN
X-WR-TIMEZONE:Europe/Rome
BEGIN:VEVENT
SUMMARY:AI for biomedical engineers: Balancing Innovation and Regulation
DTSTART;TZID=Europe/Rome;VALUE=DATE-TIME:20241210T160000
DTEND;TZID=Europe/Rome;VALUE=DATE-TIME:20241210T180000
DTSTAMP;VALUE=DATE-TIME:20260421T051444Z
UID:ae9620f1fffa4e42823f5d48ff315f44@dei.unibo.it
CREATED;VALUE=DATE-TIME:20241206T124731Z
DESCRIPTION:The seminar will be given by Roberto Sammarchi
LAST-MODIFIED;VALUE=DATE-TIME:20241210T171938Z
URL:https://dei.unibo.it/en/events/ai-for-biomedical-engineers-balancing-i
 nnovation-and-regulation
END:VEVENT
BEGIN:VTIMEZONE
TZID:Europe/Rome
X-LIC-LOCATION:Europe/Rome
BEGIN:STANDARD
DTSTART;VALUE=DATE-TIME:20241027T020000
TZNAME:CET
TZOFFSETFROM:+0200
TZOFFSETTO:+0100
END:STANDARD
END:VTIMEZONE
END:VCALENDAR
