BEGIN:VCALENDAR
VERSION:2.0
PRODID:-//Plone.org//NONSGML plone.app.event//EN
X-WR-TIMEZONE:Europe/Rome
BEGIN:VEVENT
SUMMARY:An Overview of Mobile Networks – From 2G to LTE Advanced\, Pavin
 g the Path to 5G
DTSTART;TZID=Europe/Rome;VALUE=DATE-TIME:20210330T123000
DTEND;TZID=Europe/Rome;VALUE=DATE-TIME:20210330T143000
DTSTAMP;VALUE=DATE-TIME:20260421T014214Z
UID:d4f32dfe2a96495eabbf19d9bf3b556a@dei.unibo.it
CREATED;VALUE=DATE-TIME:20210329T084427Z
DESCRIPTION:The seminar will be given by Alessandro Pace (TIM) as part fo 
 the course "Mobile Radio Networks."
LAST-MODIFIED;VALUE=DATE-TIME:20210329T084553Z
URL:https://dei.unibo.it/en/events/an-overview-of-mobile-networks
END:VEVENT
BEGIN:VTIMEZONE
TZID:Europe/Rome
X-LIC-LOCATION:Europe/Rome
BEGIN:DAYLIGHT
DTSTART;VALUE=DATE-TIME:20210328T030000
TZNAME:CEST
TZOFFSETFROM:+0100
TZOFFSETTO:+0200
END:DAYLIGHT
END:VTIMEZONE
END:VCALENDAR
