BEGIN:VCALENDAR
VERSION:2.0
PRODID:-//Plone.org//NONSGML plone.app.event//EN
X-WR-TIMEZONE:Europe/Rome
BEGIN:VEVENT
SUMMARY:Functional Safety at the Edge
DTSTART;TZID=Europe/Rome;VALUE=DATE-TIME:20240524T103000
DTEND;TZID=Europe/Rome;VALUE=DATE-TIME:20240524T113000
DTSTAMP;VALUE=DATE-TIME:20260421T153607Z
UID:cdf2c0f004e545d6b23bacac097abae1@dei.unibo.it
CREATED;VALUE=DATE-TIME:20240520T084824Z
DESCRIPTION:The seminar will be given by Riccardo Locatelli\, PhD\, Functi
 onal Safety Architect\, Intel Corporation\, as part of the course "Reliabl
 e Data Processing and Storage for Intelligent Systems M."
LAST-MODIFIED;VALUE=DATE-TIME:20240520T084854Z
URL:https://dei.unibo.it/en/events/functional-safety-at-the-edge
END:VEVENT
BEGIN:VTIMEZONE
TZID:Europe/Rome
X-LIC-LOCATION:Europe/Rome
BEGIN:DAYLIGHT
DTSTART;VALUE=DATE-TIME:20240331T030000
TZNAME:CEST
TZOFFSETFROM:+0100
TZOFFSETTO:+0200
END:DAYLIGHT
END:VTIMEZONE
END:VCALENDAR
