BEGIN:VCALENDAR
VERSION:2.0
PRODID:-//Plone.org//NONSGML plone.app.event//EN
X-WR-TIMEZONE:Europe/Rome
BEGIN:VEVENT
SUMMARY:Irreversible Port-Hamiltonian systems. A framework for the modelin
 g and control of thermodynamic systems
DTSTART;TZID=Europe/Rome;VALUE=DATE-TIME:20241218T153000
DTEND;TZID=Europe/Rome;VALUE=DATE-TIME:20241218T173000
DTSTAMP;VALUE=DATE-TIME:20260421T051402Z
UID:b0979bf9c8cd48d9bd0a073d9401211f@dei.unibo.it
CREATED;VALUE=DATE-TIME:20241217T171916Z
DESCRIPTION:The seminar will be given by Hector Ramirez\, University Feder
 ico Santa Maria\, Valparaiso\, Chile\, as part of the course on "Modelling
  and Simulation of Mechatronic Systems."
LAST-MODIFIED;VALUE=DATE-TIME:20241217T171940Z
URL:https://dei.unibo.it/en/events/irreversible-port-hamiltonian-systems
END:VEVENT
BEGIN:VTIMEZONE
TZID:Europe/Rome
X-LIC-LOCATION:Europe/Rome
BEGIN:STANDARD
DTSTART;VALUE=DATE-TIME:20241027T020000
TZNAME:CET
TZOFFSETFROM:+0200
TZOFFSETTO:+0100
END:STANDARD
END:VTIMEZONE
END:VCALENDAR
