BEGIN:VCALENDAR
VERSION:2.0
PRODID:-//Plone.org//NONSGML plone.app.event//EN
X-WR-TIMEZONE:Europe/Rome
BEGIN:VEVENT
SUMMARY:Multicore complex CPU\, Functional Safety and AI
DTSTART;TZID=Europe/Rome;VALUE=DATE-TIME:20241212T133000
DTEND;TZID=Europe/Rome;VALUE=DATE-TIME:20241212T143000
DTSTAMP;VALUE=DATE-TIME:20260421T051304Z
UID:9365c4d1bfb3423fa660b2bc075ff061@dei.unibo.it
CREATED;VALUE=DATE-TIME:20241211T174859Z
DESCRIPTION:The seminar will be given by Riccardo Locatelli\, Functional S
 afety Architect\, Intel Corporation\, as part of the course on "Sistemi El
 ettronici Ad Alta Affidabilità e Resilienza M."
LAST-MODIFIED;VALUE=DATE-TIME:20241211T175147Z
URL:https://dei.unibo.it/en/events/multicore-complex-cpu-functional-safety
 -and-ai
END:VEVENT
BEGIN:VTIMEZONE
TZID:Europe/Rome
X-LIC-LOCATION:Europe/Rome
BEGIN:STANDARD
DTSTART;VALUE=DATE-TIME:20241027T020000
TZNAME:CET
TZOFFSETFROM:+0200
TZOFFSETTO:+0100
END:STANDARD
END:VTIMEZONE
END:VCALENDAR
