BEGIN:VCALENDAR
VERSION:2.0
PRODID:-//Plone.org//NONSGML plone.app.event//EN
X-WR-TIMEZONE:Europe/Rome
BEGIN:VEVENT
SUMMARY:Multimodal and multicentric data integration for studying psychiat
 ric disorders
DTSTART;TZID=Europe/Rome;VALUE=DATE-TIME:20241202T110000
DTEND;TZID=Europe/Rome;VALUE=DATE-TIME:20241202T130000
DTSTAMP;VALUE=DATE-TIME:20260421T063446Z
UID:d8f1e79d99c84e67a76d783b76b27cbe@dei.unibo.it
CREATED;VALUE=DATE-TIME:20241120T135620Z
DESCRIPTION:The seminar will be given by Eleonora Maggioni\, Assistant Pro
 fessor\, Politecnico di Milano\, Italy\, as part of the course "Computatio
 nal Neuroimaging\," in cooperation with the local IEEE Student Branch
LAST-MODIFIED;VALUE=DATE-TIME:20241120T135725Z
URL:https://dei.unibo.it/en/events/multimodal-and-multicentric-data-integr
 ation-for-studying-psychiatric-disorders
END:VEVENT
BEGIN:VTIMEZONE
TZID:Europe/Rome
X-LIC-LOCATION:Europe/Rome
BEGIN:STANDARD
DTSTART;VALUE=DATE-TIME:20241027T020000
TZNAME:CET
TZOFFSETFROM:+0200
TZOFFSETTO:+0100
END:STANDARD
END:VTIMEZONE
END:VCALENDAR
