BEGIN:VCALENDAR
VERSION:2.0
PRODID:-//Plone.org//NONSGML plone.app.event//EN
X-WR-TIMEZONE:Europe/Rome
BEGIN:VEVENT
SUMMARY:Optimization methods applied in Public Transport
DTSTART;TZID=Europe/Rome;VALUE=DATE-TIME:20241212T150000
DTEND;TZID=Europe/Rome;VALUE=DATE-TIME:20241213T140000
DTSTAMP;VALUE=DATE-TIME:20260420T100308Z
UID:b3fe38aae973426f94a81abfa03c2d00@dei.unibo.it
CREATED;VALUE=DATE-TIME:20241211T175908Z
DESCRIPTION:The seminar will be given by Twan Dollevoet\, Erasmus Universi
 ty Rotterdam\, as part of the course on "Optimization Models and Algorithm
 s."
LAST-MODIFIED;VALUE=DATE-TIME:20241211T175930Z
URL:https://dei.unibo.it/en/events/optimization-methods-applied-in-public-
 transport
END:VEVENT
BEGIN:VTIMEZONE
TZID:Europe/Rome
X-LIC-LOCATION:Europe/Rome
BEGIN:STANDARD
DTSTART;VALUE=DATE-TIME:20241027T020000
TZNAME:CET
TZOFFSETFROM:+0200
TZOFFSETTO:+0100
END:STANDARD
END:VTIMEZONE
END:VCALENDAR
