BEGIN:VCALENDAR
VERSION:2.0
PRODID:-//Plone.org//NONSGML plone.app.event//EN
X-WR-TIMEZONE:Europe/Rome
BEGIN:VEVENT
SUMMARY:Seminars of the ET-IT 2nd year PhD Candidates (29th Cycle)
DTSTART;TZID=Europe/Rome;VALUE=DATE-TIME:20151014T000000
DTEND;TZID=Europe/Rome;VALUE=DATE-TIME:20151028T000000
DTSTAMP;VALUE=DATE-TIME:20260419T151637Z
UID:c48c122840af4ad3b3daf29a04cebab1@dei.unibo.it
CREATED;VALUE=DATE-TIME:20130607T070938Z
LAST-MODIFIED;VALUE=DATE-TIME:20151013T090709Z
URL:https://dei.unibo.it/en/events/seminars-ET-IT-PhD-candidates-29th-cycl
 e
END:VEVENT
BEGIN:VTIMEZONE
TZID:Europe/Rome
X-LIC-LOCATION:Europe/Rome
BEGIN:DAYLIGHT
DTSTART;VALUE=DATE-TIME:20150329T030000
TZNAME:CEST
TZOFFSETFROM:+0100
TZOFFSETTO:+0200
END:DAYLIGHT
BEGIN:STANDARD
DTSTART;VALUE=DATE-TIME:20151025T020000
TZNAME:CET
TZOFFSETFROM:+0200
TZOFFSETTO:+0100
END:STANDARD
END:VTIMEZONE
END:VCALENDAR
