BEGIN:VCALENDAR
VERSION:2.0
PRODID:-//Plone.org//NONSGML plone.app.event//EN
X-WR-TIMEZONE:Europe/Rome
BEGIN:VEVENT
SUMMARY:Sensing and Perception with Short Range Radar - from concept to pr
 oduct
DTSTART;TZID=Europe/Rome;VALUE=DATE-TIME:20250312T130000
DTEND;TZID=Europe/Rome;VALUE=DATE-TIME:20250312T140000
DTSTAMP;VALUE=DATE-TIME:20260421T051307Z
UID:ea6a86390ea3445aa9691c2ec34c3598@dei.unibo.it
CREATED;VALUE=DATE-TIME:20250311T162303Z
DESCRIPTION:The seminar will be given by Raffaele Soloperto (NOVELIC) as p
 art of the course "Sistemi di Telecomunicazioni LM"
LAST-MODIFIED;VALUE=DATE-TIME:20250311T162418Z
URL:https://dei.unibo.it/en/events/sensing-and-perception-with-short-range
 -radar
END:VEVENT
BEGIN:VTIMEZONE
TZID:Europe/Rome
X-LIC-LOCATION:Europe/Rome
BEGIN:STANDARD
DTSTART;VALUE=DATE-TIME:20241027T020000
TZNAME:CET
TZOFFSETFROM:+0200
TZOFFSETTO:+0100
END:STANDARD
END:VTIMEZONE
END:VCALENDAR
