BEGIN:VCALENDAR
VERSION:2.0
PRODID:-//Plone.org//NONSGML plone.app.event//EN
X-WR-TIMEZONE:Europe/Rome
BEGIN:VEVENT
SUMMARY:2D materials for nanoelectronics and nanophotonics: an R&D perspec
 tive
DTSTART;TZID=Europe/Rome;VALUE=DATE-TIME:20251017T090000
DTEND;TZID=Europe/Rome;VALUE=DATE-TIME:20251017T100000
DTSTAMP;VALUE=DATE-TIME:20260419T143747Z
UID:73fe6e0447df44f39c63c364f1940332@dei.unibo.it
CREATED;VALUE=DATE-TIME:20251005T081745Z
DESCRIPTION:Il seminario sarà tenuto da Francesca Iacopi\, Director\, Ime
 c Indiana R&D Center\, Purdue University\, USA\, in collaborazione con l'I
 EEE Italy Section\, Chapter on Electron Devices
LAST-MODIFIED;VALUE=DATE-TIME:20251005T082233Z
URL:https://dei.unibo.it/it/eventi/2d-materials-for-nanoelectronics-and-na
 nophotonics
END:VEVENT
BEGIN:VTIMEZONE
TZID:Europe/Rome
X-LIC-LOCATION:Europe/Rome
BEGIN:DAYLIGHT
DTSTART;VALUE=DATE-TIME:20250330T030000
TZNAME:CEST
TZOFFSETFROM:+0100
TZOFFSETTO:+0200
END:DAYLIGHT
END:VTIMEZONE
END:VCALENDAR
