BEGIN:VCALENDAR
VERSION:2.0
PRODID:-//Plone.org//NONSGML plone.app.event//EN
X-WR-TIMEZONE:Europe/Rome
BEGIN:VEVENT
SUMMARY:Conducted Emissions in Automotive Systems
DTSTART;TZID=Europe/Rome;VALUE=DATE-TIME:20250414T150000
DTEND;TZID=Europe/Rome;VALUE=DATE-TIME:20250414T160000
DTSTAMP;VALUE=DATE-TIME:20260421T063111Z
UID:183abf34abec46e99eadf8271233cf01@dei.unibo.it
CREATED;VALUE=DATE-TIME:20250414T085252Z
DESCRIPTION:Il seminario sarà tenuto da Alessandro Amaducci\, fondatore d
 i Niverso S.r.l.\, nell'ambito del corso "Electromagnetic Compatibility M"
LAST-MODIFIED;VALUE=DATE-TIME:20250414T085625Z
URL:https://dei.unibo.it/it/eventi/conducted-emissions-in-automotive-syste
 ms
END:VEVENT
BEGIN:VTIMEZONE
TZID:Europe/Rome
X-LIC-LOCATION:Europe/Rome
BEGIN:DAYLIGHT
DTSTART;VALUE=DATE-TIME:20250330T030000
TZNAME:CEST
TZOFFSETFROM:+0100
TZOFFSETTO:+0200
END:DAYLIGHT
END:VTIMEZONE
END:VCALENDAR
