BEGIN:VCALENDAR
VERSION:2.0
PRODID:-//Plone.org//NONSGML plone.app.event//EN
X-WR-TIMEZONE:Europe/Rome
BEGIN:VEVENT
SUMMARY:Engineering at Tetra Pak: Insights from Automation and Project Man
 agement
DTSTART;TZID=Europe/Rome;VALUE=DATE-TIME:20250508T100000
DTEND;TZID=Europe/Rome;VALUE=DATE-TIME:20250508T120000
DTSTAMP;VALUE=DATE-TIME:20260420T225059Z
UID:8fcae31d733142179e682f5331f0c654@dei.unibo.it
CREATED;VALUE=DATE-TIME:20250507T122218Z
DESCRIPTION:Il seminario sarà tenuto da Alice Passarella (Automation Engi
 neer) e Gianmarco Di Eusebio (Product Owner)\, Tetra Pak Packaging Solutio
 ns S.p.A.\, nell'ambito del corso "Controlli Automatici TA"
LAST-MODIFIED;VALUE=DATE-TIME:20250507T122817Z
URL:https://dei.unibo.it/it/eventi/engineering-at-tetra-pak-insights-from-
 automation-and-project-management
END:VEVENT
BEGIN:VTIMEZONE
TZID:Europe/Rome
X-LIC-LOCATION:Europe/Rome
BEGIN:DAYLIGHT
DTSTART;VALUE=DATE-TIME:20250330T030000
TZNAME:CEST
TZOFFSETFROM:+0100
TZOFFSETTO:+0200
END:DAYLIGHT
END:VTIMEZONE
END:VCALENDAR
