BEGIN:VCALENDAR
VERSION:2.0
PRODID:-//Plone.org//NONSGML plone.app.event//EN
X-WR-TIMEZONE:Europe/Rome
BEGIN:VEVENT
SUMMARY:How to [safely] land a plane using antennas and engineering
DTSTART;TZID=Europe/Rome;VALUE=DATE-TIME:20230531T120000
DTEND;TZID=Europe/Rome;VALUE=DATE-TIME:20230531T140000
DTSTAMP;VALUE=DATE-TIME:20260421T051402Z
UID:4c5a2ed2365e495f98936355d95332d5@dei.unibo.it
CREATED;VALUE=DATE-TIME:20230526T121520Z
DESCRIPTION:Il seminario sarà tenuro da Andrea Chucurachi e Roberto Maria
 ni\, Thales Italia S.p.A.\, nell'ambito del corso "Antennas for Wireless S
 ystems".
LAST-MODIFIED;VALUE=DATE-TIME:20230526T121916Z
URL:https://dei.unibo.it/it/eventi/how-to-safely-land-a-plane-using-antenn
 as-and-engineering
END:VEVENT
BEGIN:VTIMEZONE
TZID:Europe/Rome
X-LIC-LOCATION:Europe/Rome
BEGIN:DAYLIGHT
DTSTART;VALUE=DATE-TIME:20230326T030000
TZNAME:CEST
TZOFFSETFROM:+0100
TZOFFSETTO:+0200
END:DAYLIGHT
END:VTIMEZONE
END:VCALENDAR
