BEGIN:VCALENDAR
VERSION:2.0
PRODID:-//Plone.org//NONSGML plone.app.event//EN
X-WR-TIMEZONE:Europe/Rome
BEGIN:VEVENT
SUMMARY:Information-driven Robot Planning and Control
DTSTART;TZID=Europe/Rome;VALUE=DATE-TIME:20240521T090000
DTEND;TZID=Europe/Rome;VALUE=DATE-TIME:20240521T120000
DTSTAMP;VALUE=DATE-TIME:20260425T155856Z
UID:c38fa1c0daac4e5b9928948987be146b@dei.unibo.it
CREATED;VALUE=DATE-TIME:20240520T093609Z
DESCRIPTION:Il seminario sarà tenuto da Silvia Ferrari\, Professor\, Corn
 ell University\, USA\, nell'ambito del corso "Distributed Autonomous Syste
 ms".
LAST-MODIFIED;VALUE=DATE-TIME:20240520T094032Z
URL:https://dei.unibo.it/it/eventi/information-driven-robot-planning-and-c
 ontrol
END:VEVENT
BEGIN:VTIMEZONE
TZID:Europe/Rome
X-LIC-LOCATION:Europe/Rome
BEGIN:DAYLIGHT
DTSTART;VALUE=DATE-TIME:20240331T030000
TZNAME:CEST
TZOFFSETFROM:+0100
TZOFFSETTO:+0200
END:DAYLIGHT
END:VTIMEZONE
END:VCALENDAR
