BEGIN:VCALENDAR
VERSION:2.0
PRODID:-//Plone.org//NONSGML plone.app.event//EN
X-WR-TIMEZONE:Europe/Rome
BEGIN:VEVENT
SUMMARY:Progettazione e realizzazione di impianti di testing per la propul
 sione elettrica e sviluppo di microgrid ed accumuli energetici
DTSTART;TZID=Europe/Rome;VALUE=DATE-TIME:20230417T140000
DTEND;TZID=Europe/Rome;VALUE=DATE-TIME:20230417T150000
DTSTAMP;VALUE=DATE-TIME:20260421T053631Z
UID:be17643d55fb4f3a90c4a695c8c1d7f2@dei.unibo.it
CREATED;VALUE=DATE-TIME:20230413T145427Z
DESCRIPTION:Il seminario sarà tenuto da Federico Ricavi\, Engineering Man
 ager\, e da Marco Fontanelli\, Electrical Design Engineer\, Loccioni\, nel
 l'ambito del corso "Conversione Statica dell’Energia Elettrica M".
LAST-MODIFIED;VALUE=DATE-TIME:20230413T145631Z
URL:https://dei.unibo.it/it/eventi/progettazione-e-realizzazione-di-impian
 ti-di-testing-per-la-propulsione-elettrica-e-sviluppo-di-microgrid-ed-accu
 muli-energetici
END:VEVENT
BEGIN:VTIMEZONE
TZID:Europe/Rome
X-LIC-LOCATION:Europe/Rome
BEGIN:DAYLIGHT
DTSTART;VALUE=DATE-TIME:20230326T030000
TZNAME:CEST
TZOFFSETFROM:+0100
TZOFFSETTO:+0200
END:DAYLIGHT
END:VTIMEZONE
END:VCALENDAR
