BEGIN:VCALENDAR
VERSION:2.0
PRODID:-//Plone.org//NONSGML plone.app.event//EN
X-WR-TIMEZONE:Europe/Rome
BEGIN:VEVENT
SUMMARY:Seminario: Solving Scheduled Service Network Design Problems
DTSTART;VALUE=DATE:20170605
DTEND;VALUE=DATE:20170606
DTSTAMP;VALUE=DATE-TIME:20260423T130543Z
UID:80386ba474ce4fa499fb2e6c69d1b7f2@dei.unibo.it
CREATED;VALUE=DATE-TIME:20170518T120923Z
DESCRIPTION:Il seminario sarà tenuto da Mike Hewitt\, Loyola University\,
  Chicago.
LAST-MODIFIED;VALUE=DATE-TIME:20170518T120947Z
URL:https://dei.unibo.it/it/eventi/seminario-solving-scheduled-service-net
 work-design-problems
END:VEVENT
END:VCALENDAR
