BEGIN:VCALENDAR
VERSION:2.0
PRODID:-//Plone.org//NONSGML plone.app.event//EN
X-WR-TIMEZONE:Europe/Rome
BEGIN:VEVENT
SUMMARY:Seminario: Status of the ITER magnet system
DTSTART;VALUE=DATE:20170511
DTEND;VALUE=DATE:20170512
DTSTAMP;VALUE=DATE-TIME:20260419T153817Z
UID:b0334c7591314a4fa830b35c44e53be8@dei.unibo.it
CREATED;VALUE=DATE-TIME:20170510T125857Z
DESCRIPTION:Il seminario sarà tenuto dal Dr. Arnaud Devred\, deputy leade
 r della divisione magneti della ITER International Organization\, nell'amb
 ito dell'insegnamento "Ingegneria dei Sistemi Superconduttivi" per i Corsi
  di Laurea Magistrale in Ingegneria Energetica e Ingegneria dell’Energia
  Elettrica.
LAST-MODIFIED;VALUE=DATE-TIME:20170510T133215Z
URL:https://dei.unibo.it/it/eventi/seminario-status-of-the-iter-magnet-sys
 tem
END:VEVENT
END:VCALENDAR
