BEGIN:VCALENDAR
VERSION:2.0
PRODID:-//Plone.org//NONSGML plone.app.event//EN
X-WR-TIMEZONE:Europe/Rome
BEGIN:VEVENT
SUMMARY:Un approccio umano alla CyberSecurity
DTSTART;TZID=Europe/Rome;VALUE=DATE-TIME:20230510T160000
DTEND;TZID=Europe/Rome;VALUE=DATE-TIME:20230510T170000
DTSTAMP;VALUE=DATE-TIME:20260421T051426Z
UID:472cdb61b2df4aa89bbc8d756402106b@dei.unibo.it
CREATED;VALUE=DATE-TIME:20230509T111158Z
DESCRIPTION:Il seminario sarà tenuro da Lorenzo Zoffoli\, Yoroi\, nell'am
 bito del corso "Teoria dell'Informazione e Crittografia LM".
LAST-MODIFIED;VALUE=DATE-TIME:20230509T111322Z
URL:https://dei.unibo.it/it/eventi/un-approccio-umano-alla-cybersecurity
END:VEVENT
BEGIN:VTIMEZONE
TZID:Europe/Rome
X-LIC-LOCATION:Europe/Rome
BEGIN:DAYLIGHT
DTSTART;VALUE=DATE-TIME:20230326T030000
TZNAME:CEST
TZOFFSETFROM:+0100
TZOFFSETTO:+0200
END:DAYLIGHT
END:VTIMEZONE
END:VCALENDAR
